BEGIN:VCALENDAR
VERSION:2.0
PRODID:icalendar-ruby
CALSCALE:GREGORIAN
METHOD:PUBLISH
BEGIN:VEVENT
DTSTAMP:20260426T040305Z
UID:128-400683@magnoliacowboychurch.org
DTSTART:20261108T230000Z
DTEND:20261109T010000Z
CLASS:PUBLIC
CREATED:20260425T202818
DESCRIPTION:
LAST-MODIFIED:20260425T202818
LOCATION:The Ranch House at Magnolia Cowboy Church
SUMMARY:Young Adults Bible Study
URL;VALUE=URI:https://www.magnoliacowboychurch.org/events/young-adults-bibl
 e-study/2026-11-08
ATTACH;FILENAME=YA-SUNDAY-AT-5pm.png;FMTTYPE=image/png:https://dq5pwpg1q8ru
 0.cloudfront.net/2025/10/17/18/23/54/8181b96b-5351-4338-8be1-32cf7ec5df06/
 YA-SUNDAY-AT-5pm.png
END:VEVENT
END:VCALENDAR
