BEGIN:VCALENDAR
VERSION:2.0
PRODID:icalendar-ruby
CALSCALE:GREGORIAN
METHOD:PUBLISH
BEGIN:VEVENT
DTSTAMP:20260420T071807Z
UID:46-389820@magnoliacowboychurch.org
DTSTART:20260913T223000Z
DTEND:20260914T003000Z
CLASS:PUBLIC
CREATED:20260420T020908
DESCRIPTION:Shift  (9th-12th) meets every Sunday night at 5:30pm for games
 /hang out time. Afterwards\, we eat a meal together then jump into worship
  and study of God's word together.\nWe offer high schoolers a safe space t
 o hang out with their friends\, step into a worship service\, and then fin
 ally an opportunity to hear practical and relevant messages. Our goal is t
 o come alongside students as they transition through the seasons of teenag
 e life.
LAST-MODIFIED:20260420T020908
LOCATION:Magnolia Cowboy Church Main Building
SUMMARY:SHIFT
URL;VALUE=URI:https://www.magnoliacowboychurch.org/events/shift--46/2026-09
 -13
ATTACH;FILENAME=Shift-Slide-%281%29.png;FMTTYPE=image/png:https://dq5pwpg1q
 8ru0.cloudfront.net/2025/08/27/19/15/18/cc5b0d7d-8f0b-481a-929d-1f724d636c
 f9/Shift-Slide-%25281%2529.png
END:VEVENT
END:VCALENDAR
