BEGIN:VCALENDAR
VERSION:2.0
PRODID:icalendar-ruby
CALSCALE:GREGORIAN
METHOD:PUBLISH
BEGIN:VEVENT
DTSTAMP:20260421T181827Z
UID:251-390896@magnoliacowboychurch.org
DTSTART:20260707T220000Z
DTEND:20260708T010000Z
CLASS:PUBLIC
CREATED:20260420T130320
DESCRIPTION:
LAST-MODIFIED:20260420T130320
LOCATION:Magnolia Cowboy Church Arena
SUMMARY:Sandy Showdown
URL;VALUE=URI:https://www.magnoliacowboychurch.org/events/sandy-showdown/20
 26-07-07
ATTACH;FILENAME=Sandy-Showdown-26.png;FMTTYPE=image/png:https://dq5pwpg1q8r
 u0.cloudfront.net/2026/04/20/18/03/20/adbbedd9-ed31-438f-9c76-883e66eb761a
 /Sandy-Showdown-26.png
END:VEVENT
END:VCALENDAR
