BEGIN:VCALENDAR
VERSION:2.0
PRODID:icalendar-ruby
CALSCALE:GREGORIAN
METHOD:PUBLISH
BEGIN:VEVENT
DTSTAMP:20260424T064120Z
UID:250-390598@magnoliacowboychurch.org
DTSTART;VALUE=DATE:20260517
DTEND;VALUE=DATE:20260517
CLASS:PUBLIC
CREATED:20260420T115826
DESCRIPTION:This Sunday we move kids/youth up to the next grade they will b
 e starting in the fall. This gives them an opportunity to meet their new t
 eachers/classmates and gives them the summer to get used to a different ro
 om/structure before the start of the school year in the fall. This also al
 lows the kids who are now old enough to camp for the first time this summe
 r to connect with the leaders that will be there.\n 
LAST-MODIFIED:20260420T115826
LOCATION:
SUMMARY:Promotion Sunday
URL;VALUE=URI:https://www.magnoliacowboychurch.org/events/promotion-sunday-
 -250/2026-05-17
ATTACH;FILENAME=Promotion-Sunday-26.png;FMTTYPE=image/png:https://dq5pwpg1q
 8ru0.cloudfront.net/2026/04/20/16/58/26/9bb2082d-ad7a-4d3e-abe8-5adc881c30
 f4/Promotion-Sunday-26.png
END:VEVENT
END:VCALENDAR
