BEGIN:VCALENDAR
VERSION:2.0
PRODID:icalendar-ruby
CALSCALE:GREGORIAN
METHOD:PUBLISH
BEGIN:VEVENT
DTSTAMP:20260424T065719Z
UID:245-369877@magnoliacowboychurch.org
DTSTART:20260529T000000Z
DTEND:20260529T020000Z
CLASS:PUBLIC
CREATED:20260408T133846
DESCRIPTION:
LAST-MODIFIED:20260408T133846
LOCATION:Magnolia Cowboy Church Main Building
SUMMARY:Men's Rally
URL;VALUE=URI:https://www.magnoliacowboychurch.org/events/mens-rally--245/2
 026-05-28
END:VEVENT
END:VCALENDAR
