BEGIN:VCALENDAR
VERSION:2.0
PRODID:icalendar-ruby
CALSCALE:GREGORIAN
METHOD:PUBLISH
BEGIN:VEVENT
DTSTAMP:20260425T115148Z
UID:65-398824@magnoliacowboychurch.org
DTSTART:20261021T233000Z
DTEND:20261022T013000Z
CLASS:PUBLIC
CREATED:20260424T211613
DESCRIPTION:Connecting our kids with God and starting them along their road
  map to Jesus.
LAST-MODIFIED:20260424T211613
LOCATION:Magnolia Cowboy Church
SUMMARY:MCC Youth Ministries
URL;VALUE=URI:https://www.magnoliacowboychurch.org/events/mcc-youth-ministr
 ies/2026-10-21
ATTACH;FILENAME=Magnolia-Cowboy-Church.jpg;FMTTYPE=image/jpeg:https://dq5pw
 pg1q8ru0.cloudfront.net/2025/08/27/19/12/23/f3a9832f-963e-4789-8746-325f88
 946660/Magnolia-Cowboy-Church.jpg
END:VEVENT
END:VCALENDAR
