BEGIN:VCALENDAR
VERSION:2.0
PRODID:icalendar-ruby
CALSCALE:GREGORIAN
METHOD:PUBLISH
BEGIN:VEVENT
DTSTAMP:20260424T065241Z
UID:247-367852@magnoliacowboychurch.org
DTSTART:20261023T210000Z
DTEND:20261025T180000Z
CLASS:PUBLIC
CREATED:20260407T135854
DESCRIPTION:
LAST-MODIFIED:20260407T135854
LOCATION:Camp Blessing
SUMMARY:Man Camp
URL;VALUE=URI:https://www.magnoliacowboychurch.org/events/man-camp--247/202
 6-10-23
ATTACH;FILENAME=Man-Camp-26.png;FMTTYPE=image/png:https://dq5pwpg1q8ru0.clo
 udfront.net/2026/04/07/18/58/54/aa684187-3dea-4236-a91d-dfa9e742af30/Man-C
 amp-26.png
END:VEVENT
END:VCALENDAR
