BEGIN:VCALENDAR
VERSION:2.0
PRODID:icalendar-ruby
CALSCALE:GREGORIAN
METHOD:PUBLISH
BEGIN:VEVENT
DTSTAMP:20260424T063233Z
UID:249-390895@magnoliacowboychurch.org
DTSTART:20260531T163000Z
DTEND:20260531T183000Z
CLASS:PUBLIC
CREATED:20260420T124848
DESCRIPTION:\n\nGet Connected is a class for anyone wanting to volunteer an
 d become a member. Learn how to plug in right away and start making a diff
 erence in the Kingdom.\n\n
LAST-MODIFIED:20260420T124848
LOCATION:
SUMMARY:Get Connected Class
URL;VALUE=URI:https://www.magnoliacowboychurch.org/events/get-connected-cla
 ss--249/2026-05-31
ATTACH;FILENAME=Get-Connected.png;FMTTYPE=image/png:https://dq5pwpg1q8ru0.c
 loudfront.net/2026/04/15/16/18/27/23c38dd2-d00d-49a6-ad3d-4ca0c848452f/Get
 -Connected.png
END:VEVENT
END:VCALENDAR
