BEGIN:VCALENDAR
VERSION:2.0
PRODID:icalendar-ruby
CALSCALE:GREGORIAN
METHOD:PUBLISH
BEGIN:VEVENT
DTSTAMP:20260420T135339Z
UID:248-380336@magnoliacowboychurch.org
DTSTART:20260426T133000Z
DTEND:20260427T043000Z
CLASS:PUBLIC
CREATED:20260414T152015
DESCRIPTION:Details\n\n\n\nWhat is the importance of baptism? In short\, ba
 ptism is the outward sign of what God has done in that individual’s life
  and is a testimony to all that the person now belongs to Jesus. It is ide
 ntification with Jesus and is affected in the name of the Father\, the Son
 \, and the Holy Spirit.\nAt Magnolia Cowboy Church we have baptisms once a
  month\, during all three services. We hold them during service so our chu
 rch family can celebrate with you!  \n\n\n
LAST-MODIFIED:20260414T152015
LOCATION:
SUMMARY:Baptism Sunday! 
URL;VALUE=URI:https://www.magnoliacowboychurch.org/events/baptism-sunday/20
 26-04-26
END:VEVENT
END:VCALENDAR
